BEGIN:VCALENDAR
VERSION:2.0
PRODID:icalendar-ruby
CALSCALE:GREGORIAN
METHOD:PUBLISH
BEGIN:VEVENT
DTSTAMP:20260422T223135Z
UID:9-268604@unity-fellowship.church
DTSTART:20260924T000000Z
DTEND:20260924T010000Z
CLASS:PUBLIC
CREATED:20260422T161959
DESCRIPTION:Wednesday Bible Study weekly\, with a Fellowship Night the 3rd 
 Wednesday of each month
LAST-MODIFIED:20260422T161959
LOCATION:1102 W. Oak St.\, Skiatook\, OK 74070
SUMMARY:Wednesday Bible Study & Fellowship
URL;VALUE=URI:https://unity-fellowship.church/events/wednesday-bible-study-
 fellowship/2026-09-23
ATTACH;FILENAME=FlR8w.jpg;FMTTYPE=image/jpeg:https://dq5pwpg1q8ru0.cloudfro
 nt.net/2026/02/06/21/08/40/f6e1c486-d73d-4aaf-868c-e9c0c8029ff6/FlR8w.jpg
END:VEVENT
END:VCALENDAR
